BEGIN:VCALENDAR
VERSION:2.0
PRODID:http://www.pfarrei-am-peterberg.de
BEGIN:VEVENT
UID:a0f512eb-3dfa-11f1-a3e9-0242ac11002b-1785429000000-de
DTSTAMP:20260422T032327Z
DTSTART:20260730T163000Z
DTEND:20260730T172500Z
SUMMARY;LANGUAGE=de:Anbetung
URL:http://www.pfarrei-am-peterberg.de/aktuelles/gottesdienste/gottesdienst/Anbetung-2026.07.30/
END:VEVENT
END:VCALENDAR
